Package: biodbNcbi Version: 1.10.0 Command: /Library/Frameworks/R.framework/Resources/bin/R CMD check --install=check:biodbNcbi.install-out.txt --library=/Library/Frameworks/R.framework/Resources/library --no-vignettes --timings biodbNcbi_1.10.0.tar.gz StartedAt: 2025-02-04 12:46:00 -0500 (Tue, 04 Feb 2025) EndedAt: 2025-02-04 12:48:56 -0500 (Tue, 04 Feb 2025) EllapsedTime: 176.5 seconds RetCode: 0 Status: OK CheckDir: biodbNcbi.Rcheck Warnings: 0