Package: biodbNcbi Version: 1.10.0 Command: /Library/Frameworks/R.framework/Resources/bin/R CMD INSTALL biodbNcbi StartedAt: 2025-02-03 17:02:53 -0500 (Mon, 03 Feb 2025) EndedAt: 2025-02-03 17:03:06 -0500 (Mon, 03 Feb 2025) EllapsedTime: 12.6 seconds RetCode: 0 Status: OK