Package: biodbNcbi Version: 1.10.0 Command: /Library/Frameworks/R.framework/Resources/bin/R CMD build --keep-empty-dirs --no-resave-data biodbNcbi StartedAt: 2025-02-03 17:25:51 -0500 (Mon, 03 Feb 2025) EndedAt: 2025-02-03 17:26:50 -0500 (Mon, 03 Feb 2025) EllapsedTime: 59.0 seconds RetCode: 0 Status: OK PackageFile: biodbNcbi_1.10.0.tar.gz PackageFileSize: 733.4 KiB