Package: biodbNcbi Version: 1.9.0 Command: F:\biocbuild\bbs-3.20-bioc\R\bin\R.exe CMD INSTALL biodbNcbi StartedAt: 2024-06-09 16:30:16 -0400 (Sun, 09 Jun 2024) EndedAt: 2024-06-09 16:30:37 -0400 (Sun, 09 Jun 2024) EllapsedTime: 20.2 seconds RetCode: 0 Status: OK