Package: biodbNcbi Version: 1.10.0 Command: rm -rf biodbNcbi.buildbin-libdir && mkdir biodbNcbi.buildbin-libdir && F:\biocbuild\bbs-3.20-bioc\R\bin\R.exe CMD INSTALL --build --library=biodbNcbi.buildbin-libdir biodbNcbi_1.10.0.tar.gz StartedAt: 2025-02-04 08:04:19 -0500 (Tue, 04 Feb 2025) EndedAt: 2025-02-04 08:04:52 -0500 (Tue, 04 Feb 2025) EllapsedTime: 32.7 seconds RetCode: 0 Status: OK PackageFile: biodbNcbi_1.10.0.zip PackageFileSize: 1.136 MiB