Package: biodbNci Version: 1.10.0 Command: /Library/Frameworks/R.framework/Resources/bin/R CMD INSTALL biodbNci StartedAt: 2025-02-03 17:02:10 -0500 (Mon, 03 Feb 2025) EndedAt: 2025-02-03 17:02:39 -0500 (Mon, 03 Feb 2025) EllapsedTime: 28.9 seconds RetCode: 0 Status: OK