Package: biodbNci Version: 1.10.0 Command: /Library/Frameworks/R.framework/Resources/bin/R CMD build --keep-empty-dirs --no-resave-data biodbNci StartedAt: 2025-02-03 17:25:52 -0500 (Mon, 03 Feb 2025) EndedAt: 2025-02-03 17:27:19 -0500 (Mon, 03 Feb 2025) EllapsedTime: 87.6 seconds RetCode: 0 Status: OK PackageFile: biodbNci_1.10.0.tar.gz PackageFileSize: 311.9 KiB