Package: biodbNci Version: 1.10.0 Command: /home/biocbuild/bbs-3.20-bioc/R/bin/R CMD build --keep-empty-dirs --no-resave-data --md5 biodbNci StartedAt: 2025-02-03 16:34:46 -0500 (Mon, 03 Feb 2025) EndedAt: 2025-02-03 16:35:20 -0500 (Mon, 03 Feb 2025) EllapsedTime: 34.0 seconds RetCode: 0 Status: OK PackageFile: biodbNci_1.10.0.tar.gz PackageFileSize: 313.1 KiB