Package: biodbNci Version: 1.10.0 Command: /home/biocbuild/bbs-3.20-bioc/R/bin/R CMD check --install=check:biodbNci.install-out.txt --library=/home/biocbuild/bbs-3.20-bioc/R/site-library --timings biodbNci_1.10.0.tar.gz StartedAt: 2025-02-03 20:27:30 -0500 (Mon, 03 Feb 2025) EndedAt: 2025-02-03 20:28:28 -0500 (Mon, 03 Feb 2025) EllapsedTime: 58.0 seconds RetCode: 0 Status: OK CheckDir: biodbNci.Rcheck Warnings: 0