Package: biodbNci Version: 1.10.0 Command: /home/biocbuild/bbs-3.20-bioc/R/bin/R CMD INSTALL biodbNci StartedAt: 2025-02-03 15:49:25 -0500 (Mon, 03 Feb 2025) EndedAt: 2025-02-03 15:49:57 -0500 (Mon, 03 Feb 2025) EllapsedTime: 31.4 seconds RetCode: 0 Status: OK