##############################################################################
##############################################################################
###
### Running command:
###
###   rm -rf biodbNci.buildbin-libdir && mkdir biodbNci.buildbin-libdir && C:\Users\biocbuild\bbs-3.20-bioc\R\bin\R.exe CMD INSTALL --build --library=biodbNci.buildbin-libdir biodbNci_1.9.0.tar.gz
###
##############################################################################
##############################################################################


* installing *source* package 'biodbNci' ...
** using staged installation
** libs
using C++ compiler: 'G__~1.EXE (GCC) 13.2.0'
g++ -std=gnu++17  -I"C:/Users/biocbuild/bbs-3.20-bioc/R/include" -DNDEBUG  -I'C:/Users/biocbuild/bbs-3.20-bioc/R/library/Rcpp/include' -I'C:/Users/biocbuild/bbs-3.20-bioc/R/library/testthat/include'   -I"C:/rtools44/x86_64-w64-mingw32.static.posix/include"     -O2 -Wall  -mfpmath=sse -msse2 -mstackrealign  -c RcppExports.cpp -o RcppExports.o
g++ -std=gnu++17  -I"C:/Users/biocbuild/bbs-3.20-bioc/R/include" -DNDEBUG  -I'C:/Users/biocbuild/bbs-3.20-bioc/R/library/Rcpp/include' -I'C:/Users/biocbuild/bbs-3.20-bioc/R/library/testthat/include'   -I"C:/rtools44/x86_64-w64-mingw32.static.posix/include"     -O2 -Wall  -mfpmath=sse -msse2 -mstackrealign  -c extractEntries.cpp -o extractEntries.o
g++ -std=gnu++17  -I"C:/Users/biocbuild/bbs-3.20-bioc/R/include" -DNDEBUG  -I'C:/Users/biocbuild/bbs-3.20-bioc/R/library/Rcpp/include' -I'C:/Users/biocbuild/bbs-3.20-bioc/R/library/testthat/include'   -I"C:/rtools44/x86_64-w64-mingw32.static.posix/include"     -O2 -Wall  -mfpmath=sse -msse2 -mstackrealign  -c test-100-example.cpp -o test-100-example.o
g++ -std=gnu++17  -I"C:/Users/biocbuild/bbs-3.20-bioc/R/include" -DNDEBUG  -I'C:/Users/biocbuild/bbs-3.20-bioc/R/library/Rcpp/include' -I'C:/Users/biocbuild/bbs-3.20-bioc/R/library/testthat/include'   -I"C:/rtools44/x86_64-w64-mingw32.static.posix/include"     -O2 -Wall  -mfpmath=sse -msse2 -mstackrealign  -c test-runner.cpp -o test-runner.o
g++ -std=gnu++17 -shared -s -static-libgcc -o biodbNci.dll tmp.def RcppExports.o extractEntries.o test-100-example.o test-runner.o -LC:/rtools44/x86_64-w64-mingw32.static.posix/lib/x64 -LC:/rtools44/x86_64-w64-mingw32.static.posix/lib -LC:/Users/biocbuild/bbs-3.20-bioc/R/bin/x64 -lR
installing to C:/Users/biocbuild/bbs-3.20-bioc/meat/biodbNci.buildbin-libdir/00LOCK-biodbNci/00new/biodbNci/libs/x64
** R
** inst
** byte-compile and prepare package for lazy loading
** help
*** installing help indices
** building package indices
** installing vignettes
** testing if installed package can be loaded from temporary location
** testing if installed package can be loaded from final location
** testing if installed package keeps a record of temporary installation path
* MD5 sums
packaged installation of 'biodbNci' as biodbNci_1.9.0.zip
* DONE (biodbNci)