Package: biodbNci
Version: 1.9.0
Command: C:\Users\biocbuild\bbs-3.20-bioc\R\bin\R.exe CMD INSTALL biodbNci
StartedAt: 2024-07-15 15:56:46 -0400 (Mon, 15 Jul 2024)
EndedAt: 2024-07-15 15:57:26 -0400 (Mon, 15 Jul 2024)
EllapsedTime: 40.2 seconds
RetCode: 0
Status: OK