Package: biodbNci Version: 1.10.0 Command: rm -rf biodbNci.buildbin-libdir && mkdir biodbNci.buildbin-libdir && F:\biocbuild\bbs-3.20-bioc\R\bin\R.exe CMD INSTALL --build --library=biodbNci.buildbin-libdir biodbNci_1.10.0.tar.gz StartedAt: 2025-02-04 08:04:27 -0500 (Tue, 04 Feb 2025) EndedAt: 2025-02-04 08:05:03 -0500 (Tue, 04 Feb 2025) EllapsedTime: 36.3 seconds RetCode: 0 Status: OK PackageFile: biodbNci_1.10.0.zip PackageFileSize: 901.9 KiB