Package: biodbNci Version: 1.10.0 Command: /home/biocbuild/R/R/bin/R CMD build --keep-empty-dirs --no-resave-data biodbNci StartedAt: 2025-02-03 22:06:08 -0000 (Mon, 03 Feb 2025) EndedAt: 2025-02-03 22:07:00 -0000 (Mon, 03 Feb 2025) EllapsedTime: 52.0 seconds RetCode: 0 Status: OK PackageFile: biodbNci_1.10.0.tar.gz PackageFileSize: 377.4 KiB