Package: biomaRt Version: 2.62.1 Command: rm -rf biomaRt.buildbin-libdir && mkdir biomaRt.buildbin-libdir && /Users/biocbuild/BBS/utils/build-universal.sh biomaRt_2.62.1.tar.gz /Library/Frameworks/R.framework/Resources/bin/R biomaRt.buildbin-libdir StartedAt: 2025-02-01 14:04:54 -0500 (Sat, 01 Feb 2025) EndedAt: 2025-02-01 14:05:15 -0500 (Sat, 01 Feb 2025) EllapsedTime: 21.3 seconds RetCode: 0 Status: OK PackageFile: biomaRt_2.62.1.tgz PackageFileSize: 926.8 KiB