Package: biomaRt Version: 2.62.1 Command: /Library/Frameworks/R.framework/Resources/bin/R CMD build --keep-empty-dirs --no-resave-data biomaRt StartedAt: 2025-01-30 19:46:07 -0500 (Thu, 30 Jan 2025) EndedAt: 2025-01-30 19:47:11 -0500 (Thu, 30 Jan 2025) EllapsedTime: 63.8 seconds RetCode: 0 Status: OK PackageFile: biomaRt_2.62.1.tar.gz PackageFileSize: 843.3 KiB