Package: biomaRt Version: 2.62.0 Command: /home/biocbuild/R/R/bin/R CMD build --keep-empty-dirs --no-resave-data biomaRt StartedAt: 2024-11-19 23:15:20 -0000 (Tue, 19 Nov 2024) EndedAt: 2024-11-19 23:19:50 -0000 (Tue, 19 Nov 2024) EllapsedTime: 270.4 seconds RetCode: 0 Status: OK PackageFile: biomaRt_2.62.0.tar.gz PackageFileSize: 894.3 KiB