Package: biomaRt Version: 2.62.0 Command: /home/biocbuild/R/R/bin/R CMD INSTALL biomaRt StartedAt: 2024-11-19 20:56:05 -0000 (Tue, 19 Nov 2024) EndedAt: 2024-11-19 20:56:28 -0000 (Tue, 19 Nov 2024) EllapsedTime: 23.0 seconds RetCode: 0 Status: OK