Package: biomaRt Version: 2.62.1 Command: /home/biocbuild/bbs-3.20-bioc/R/bin/R CMD build --keep-empty-dirs --no-resave-data --md5 biomaRt StartedAt: 2025-02-03 16:35:05 -0500 (Mon, 03 Feb 2025) EndedAt: 2025-02-03 16:36:40 -0500 (Mon, 03 Feb 2025) EllapsedTime: 95.1 seconds RetCode: 0 Status: OK PackageFile: biomaRt_2.62.1.tar.gz PackageFileSize: 845.5 KiB