Package: biomaRt Version: 2.62.1 Command: /home/biocbuild/bbs-3.20-bioc/R/bin/R CMD INSTALL biomaRt StartedAt: 2025-02-03 15:34:43 -0500 (Mon, 03 Feb 2025) EndedAt: 2025-02-03 15:34:59 -0500 (Mon, 03 Feb 2025) EllapsedTime: 16.1 seconds RetCode: 0 Status: OK