Package: biomaRt Version: 2.62.1 Command: rm -rf biomaRt.buildbin-libdir && mkdir biomaRt.buildbin-libdir && F:\biocbuild\bbs-3.20-bioc\R\bin\R.exe CMD INSTALL --build --library=biomaRt.buildbin-libdir biomaRt_2.62.1.tar.gz StartedAt: 2025-01-31 08:15:10 -0500 (Fri, 31 Jan 2025) EndedAt: 2025-01-31 08:15:56 -0500 (Fri, 31 Jan 2025) EllapsedTime: 45.6 seconds RetCode: 0 Status: OK PackageFile: biomaRt_2.62.1.zip PackageFileSize: 932.8 KiB