Package: biomaRt Version: 2.62.1 Command: chmod a+r biomaRt -R && F:\biocbuild\bbs-3.20-bioc\R\bin\R.exe CMD build --keep-empty-dirs --no-resave-data biomaRt StartedAt: 2025-01-30 17:36:07 -0500 (Thu, 30 Jan 2025) EndedAt: 2025-01-30 17:37:58 -0500 (Thu, 30 Jan 2025) EllapsedTime: 111.4 seconds RetCode: 0 Status: OK PackageFile: biomaRt_2.62.1.tar.gz PackageFileSize: 843.4 KiB