Package: biomaRt Version: 2.62.1 Command: /home/biocbuild/R/R/bin/R CMD INSTALL biomaRt StartedAt: 2025-02-03 20:49:28 -0000 (Mon, 03 Feb 2025) EndedAt: 2025-02-03 20:49:48 -0000 (Mon, 03 Feb 2025) EllapsedTime: 20.6 seconds RetCode: 0 Status: OK