Package: biomformat Version: 1.34.0 Command: /Library/Frameworks/R.framework/Resources/bin/R CMD check --install=check:biomformat.install-out.txt --library=/Library/Frameworks/R.framework/Resources/library --no-vignettes --timings biomformat_1.34.0.tar.gz StartedAt: 2025-01-31 12:30:49 -0500 (Fri, 31 Jan 2025) EndedAt: 2025-01-31 12:31:47 -0500 (Fri, 31 Jan 2025) EllapsedTime: 57.6 seconds RetCode: 0 Status: OK CheckDir: biomformat.Rcheck Warnings: 0