Package: biomformat Version: 1.34.0 Command: /Library/Frameworks/R.framework/Resources/bin/R CMD INSTALL biomformat StartedAt: 2025-01-30 15:15:35 -0500 (Thu, 30 Jan 2025) EndedAt: 2025-01-30 15:15:50 -0500 (Thu, 30 Jan 2025) EllapsedTime: 14.8 seconds RetCode: 0 Status: OK