Package: biomformat Version: 1.34.0 Command: chmod a+r biomformat -R && F:\biocbuild\bbs-3.20-bioc\R\bin\R.exe CMD build --keep-empty-dirs --no-resave-data biomformat StartedAt: 2025-02-03 17:48:28 -0500 (Mon, 03 Feb 2025) EndedAt: 2025-02-03 17:49:10 -0500 (Mon, 03 Feb 2025) EllapsedTime: 42.4 seconds RetCode: 0 Status: OK PackageFile: biomformat_1.34.0.tar.gz PackageFileSize: 268.8 KiB