Package: biomformat Version: 1.34.0 Command: F:\biocbuild\bbs-3.20-bioc\R\bin\R.exe CMD INSTALL biomformat StartedAt: 2025-01-30 15:28:45 -0500 (Thu, 30 Jan 2025) EndedAt: 2025-01-30 15:29:18 -0500 (Thu, 30 Jan 2025) EllapsedTime: 32.5 seconds RetCode: 0 Status: OK