Package: biomformat Version: 1.34.0 Command: /home/biocbuild/R/R/bin/R CMD build --keep-empty-dirs --no-resave-data biomformat StartedAt: 2025-02-03 22:06:56 -0000 (Mon, 03 Feb 2025) EndedAt: 2025-02-03 22:07:11 -0000 (Mon, 03 Feb 2025) EllapsedTime: 15.0 seconds RetCode: 0 Status: OK PackageFile: biomformat_1.34.0.tar.gz PackageFileSize: 308.2 KiB