Package: biosigner
Version: 1.34.0
Command: /Library/Frameworks/R.framework/Resources/bin/R CMD INSTALL biosigner
StartedAt: 2025-02-17 18:01:26 -0500 (Mon, 17 Feb 2025)
EndedAt: 2025-02-17 18:01:56 -0500 (Mon, 17 Feb 2025)
EllapsedTime: 30.1 seconds
RetCode: 0
Status: OK