Package: biosigner Version: 1.34.0 Command: rm -rf biosigner.buildbin-libdir && mkdir biosigner.buildbin-libdir && /Users/biocbuild/BBS/utils/build-universal.sh biosigner_1.34.0.tar.gz /Library/Frameworks/R.framework/Resources/bin/R biosigner.buildbin-libdir StartedAt: 2025-02-04 12:33:02 -0500 (Tue, 04 Feb 2025) EndedAt: 2025-02-04 12:34:06 -0500 (Tue, 04 Feb 2025) EllapsedTime: 63.2 seconds RetCode: 0 Status: OK PackageFile: biosigner_1.34.0.tgz PackageFileSize: 4.926 MiB