Package: biosigner Version: 1.34.0 Command: /Library/Frameworks/R.framework/Resources/bin/R CMD build --keep-empty-dirs --no-resave-data biosigner StartedAt: 2025-02-03 17:27:24 -0500 (Mon, 03 Feb 2025) EndedAt: 2025-02-03 17:34:20 -0500 (Mon, 03 Feb 2025) EllapsedTime: 416.6 seconds RetCode: 0 Status: OK PackageFile: biosigner_1.34.0.tar.gz PackageFileSize: 4.56 MiB