Package: biosigner Version: 1.34.0 Command: rm -rf biosigner.buildbin-libdir && mkdir biosigner.buildbin-libdir && F:\biocbuild\bbs-3.20-bioc\R\bin\R.exe CMD INSTALL --build --library=biosigner.buildbin-libdir biosigner_1.34.0.tar.gz StartedAt: 2025-02-04 08:04:58 -0500 (Tue, 04 Feb 2025) EndedAt: 2025-02-04 08:05:46 -0500 (Tue, 04 Feb 2025) EllapsedTime: 48.5 seconds RetCode: 0 Status: OK PackageFile: biosigner_1.34.0.zip PackageFileSize: 3.937 MiB