Package: biosigner Version: 1.34.0 Command: chmod a+r biosigner -R && F:\biocbuild\bbs-3.20-bioc\R\bin\R.exe CMD build --keep-empty-dirs --no-resave-data biosigner StartedAt: 2025-02-03 17:49:46 -0500 (Mon, 03 Feb 2025) EndedAt: 2025-02-03 17:53:16 -0500 (Mon, 03 Feb 2025) EllapsedTime: 210.5 seconds RetCode: 0 Status: OK PackageFile: biosigner_1.34.0.tar.gz PackageFileSize: 3.567 MiB