Package: biosigner Version: 1.34.0 Command: F:\biocbuild\bbs-3.20-bioc\R\bin\R.exe CMD INSTALL biosigner StartedAt: 2025-02-03 17:11:02 -0500 (Mon, 03 Feb 2025) EndedAt: 2025-02-03 17:11:50 -0500 (Mon, 03 Feb 2025) EllapsedTime: 47.4 seconds RetCode: 0 Status: OK