Package: biovizBase
Version: 1.54.0
Command: /home/biocbuild/R/R/bin/R CMD check --install=check:biovizBase.install-out.txt --library=/home/biocbuild/R/R/site-library --no-vignettes --timings biovizBase_1.54.0.tar.gz
StartedAt: 2024-11-20 05:41:40 -0000 (Wed, 20 Nov 2024)
EndedAt: 2024-11-20 05:49:23 -0000 (Wed, 20 Nov 2024)
EllapsedTime: 462.7 seconds
RetCode: 0
Status: WARNINGS
CheckDir: biovizBase.Rcheck
Warnings: 2