Package: biovizBase Version: 1.54.0 Command: /Library/Frameworks/R.framework/Resources/bin/R CMD check --install=check:biovizBase.install-out.txt --library=/Library/Frameworks/R.framework/Resources/library --no-vignettes --timings biovizBase_1.54.0.tar.gz StartedAt: 2025-02-04 00:29:24 -0500 (Tue, 04 Feb 2025) EndedAt: 2025-02-04 00:41:43 -0500 (Tue, 04 Feb 2025) EllapsedTime: 739.0 seconds RetCode: 0 Status: WARNINGS CheckDir: biovizBase.Rcheck Warnings: 2