Package: biovizBase
Version: 1.53.0
Command: C:\Users\biocbuild\bbs-3.20-bioc\R\bin\R.exe CMD check --no-multiarch --install=check:biovizBase.install-out.txt --library=C:\Users\biocbuild\bbs-3.20-bioc\R\library --no-vignettes --timings biovizBase_1.53.0.tar.gz
StartedAt: 2024-07-15 22:12:03 -0400 (Mon, 15 Jul 2024)
EndedAt: 2024-07-15 22:18:06 -0400 (Mon, 15 Jul 2024)
EllapsedTime: 363.5 seconds
RetCode: 0
Status: WARNINGS
CheckDir: biovizBase.Rcheck
Warnings: 2