Package: biovizBase Version: 1.54.0 Command: F:\biocbuild\bbs-3.20-bioc\R\bin\R.exe CMD INSTALL biovizBase StartedAt: 2025-02-17 16:16:23 -0500 (Mon, 17 Feb 2025) EndedAt: 2025-02-17 16:17:43 -0500 (Mon, 17 Feb 2025) EllapsedTime: 80.0 seconds RetCode: 0 Status: OK