Package: biovizBase Version: 1.54.0 Command: /home/biocbuild/R/R/bin/R CMD build --keep-empty-dirs --no-resave-data biovizBase StartedAt: 2025-02-03 22:10:20 -0000 (Mon, 03 Feb 2025) EndedAt: 2025-02-03 22:11:31 -0000 (Mon, 03 Feb 2025) EllapsedTime: 71.0 seconds RetCode: 0 Status: OK PackageFile: biovizBase_1.54.0.tar.gz PackageFileSize: 2.391 MiB