Package: biovizBase Version: 1.54.0 Command: /home/biocbuild/R/R/bin/R CMD check --install=check:biovizBase.install-out.txt --library=/home/biocbuild/R/R/site-library --no-vignettes --timings biovizBase_1.54.0.tar.gz StartedAt: 2025-02-04 05:08:15 -0000 (Tue, 04 Feb 2025) EndedAt: 2025-02-04 05:15:12 -0000 (Tue, 04 Feb 2025) EllapsedTime: 417.5 seconds RetCode: 0 Status: WARNINGS CheckDir: biovizBase.Rcheck Warnings: 2