Package: biscuiteer Version: 1.20.0 Command: /Library/Frameworks/R.framework/Resources/bin/R CMD build --keep-empty-dirs --no-resave-data biscuiteer StartedAt: 2025-02-03 17:28:51 -0500 (Mon, 03 Feb 2025) EndedAt: 2025-02-03 17:32:42 -0500 (Mon, 03 Feb 2025) EllapsedTime: 231.0 seconds RetCode: 0 Status: OK PackageFile: biscuiteer_1.20.0.tar.gz PackageFileSize: 4.761 MiB