Package: biscuiteer Version: 1.20.0 Command: /Library/Frameworks/R.framework/Resources/bin/R CMD INSTALL biscuiteer StartedAt: 2025-02-03 15:58:24 -0500 (Mon, 03 Feb 2025) EndedAt: 2025-02-03 16:00:52 -0500 (Mon, 03 Feb 2025) EllapsedTime: 148.4 seconds RetCode: 0 Status: OK