Package: biscuiteer Version: 1.20.0 Command: /home/biocbuild/R/R/bin/R CMD build --keep-empty-dirs --no-resave-data biscuiteer StartedAt: 2025-02-03 22:11:31 -0000 (Mon, 03 Feb 2025) EndedAt: 2025-02-03 22:27:46 -0000 (Mon, 03 Feb 2025) EllapsedTime: 975.3 seconds RetCode: 0 Status: OK PackageFile: biscuiteer_1.20.0.tar.gz PackageFileSize: 4.828 MiB