Package: biscuiteer Version: 1.20.0 Command: /home/biocbuild/R/R/bin/R CMD check --install=check:biscuiteer.install-out.txt --library=/home/biocbuild/R/R/site-library --no-vignettes --timings biscuiteer_1.20.0.tar.gz StartedAt: 2025-02-04 05:08:23 -0000 (Tue, 04 Feb 2025) EndedAt: 2025-02-04 05:19:27 -0000 (Tue, 04 Feb 2025) EllapsedTime: 664.6 seconds RetCode: 0 Status: WARNINGS CheckDir: biscuiteer.Rcheck Warnings: 1