Package: biscuiteer Version: 1.20.0 Command: /home/biocbuild/R/R/bin/R CMD INSTALL biscuiteer StartedAt: 2025-02-03 20:52:10 -0000 (Mon, 03 Feb 2025) EndedAt: 2025-02-03 20:54:28 -0000 (Mon, 03 Feb 2025) EllapsedTime: 138.1 seconds RetCode: 0 Status: OK