Package: blacksheepr Version: 1.20.0 Command: /Library/Frameworks/R.framework/Resources/bin/R CMD INSTALL blacksheepr StartedAt: 2025-02-03 17:32:50 -0500 (Mon, 03 Feb 2025) EndedAt: 2025-02-03 17:33:19 -0500 (Mon, 03 Feb 2025) EllapsedTime: 29.2 seconds RetCode: 0 Status: OK