Package: blacksheepr
Version: 1.20.0
Command: /home/biocbuild/R/R/bin/R CMD check --install=check:blacksheepr.install-out.txt --library=/home/biocbuild/R/R/site-library --no-vignettes --timings blacksheepr_1.20.0.tar.gz
StartedAt: 2024-11-20 05:42:37 -0000 (Wed, 20 Nov 2024)
EndedAt: 2024-11-20 05:47:50 -0000 (Wed, 20 Nov 2024)
EllapsedTime: 313.4 seconds
RetCode: 0
Status: OK
CheckDir: blacksheepr.Rcheck
Warnings: 0