Package: blacksheepr Version: 1.20.0 Command: rm -rf blacksheepr.buildbin-libdir && mkdir blacksheepr.buildbin-libdir && /Users/biocbuild/BBS/utils/build-universal.sh blacksheepr_1.20.0.tar.gz /Library/Frameworks/R.framework/Resources/bin/R blacksheepr.buildbin-libdir StartedAt: 2025-02-04 12:33:28 -0500 (Tue, 04 Feb 2025) EndedAt: 2025-02-04 12:34:21 -0500 (Tue, 04 Feb 2025) EllapsedTime: 53.1 seconds RetCode: 0 Status: OK PackageFile: blacksheepr_1.20.0.tgz PackageFileSize: 4.285 MiB