Package: blacksheepr Version: 1.20.0 Command: /Library/Frameworks/R.framework/Resources/bin/R CMD build --keep-empty-dirs --no-resave-data blacksheepr StartedAt: 2025-02-03 17:29:35 -0500 (Mon, 03 Feb 2025) EndedAt: 2025-02-03 17:35:30 -0500 (Mon, 03 Feb 2025) EllapsedTime: 354.9 seconds RetCode: 0 Status: OK PackageFile: blacksheepr_1.20.0.tar.gz PackageFileSize: 4.227 MiB