Package: blacksheepr Version: 1.20.0 Command: /Library/Frameworks/R.framework/Resources/bin/R CMD INSTALL blacksheepr StartedAt: 2025-02-03 16:31:35 -0500 (Mon, 03 Feb 2025) EndedAt: 2025-02-03 16:32:27 -0500 (Mon, 03 Feb 2025) EllapsedTime: 52.0 seconds RetCode: 0 Status: OK